Workbook

Sheet Data Entry
B2: Kan Ban Card | I2: Standard Work
B3: Part #: | H3: 1 | I3: Enter information into the data entry kan ban card to the left
B4: Container Quantity: | H4: 2 | I4: Leave the "Card #" cell blank
B5: Facility: | H5: 3 | I5: Go to the "Kan Ban Generator" tab
B6: Type | H6: 4 | I6: Print the number of kan ban cards required
B7: Internal | D7: Supplier | F7: Spike | H7: 5 | I7: The cards will print 4 cards per an 8 1/2 x 11 sheet of paper
H8: 6 | I8: Fill in the Card # after printing
B9: Replensih When | H9: 7 | I9: Cards will fit a 8 1/2 x 11 lamination if not precut
B10: Consumed | E10: Pulled | H10: 8 | I10: If precut, the cards will fit a 3.5 x 5.5 lamination
B12: Return Card to:
B14: Delivery Material to:
B16: System
B17: Card # | E17: Total # of Cards

Sheet Kan Ban Generator
B2: Kan Ban Card | H2: Kan Ban Card
B3: Part #: | C3: ='Data Entry'!$C$3:$F$3 -> 0 | H3: Part #: | I3: =$C$3 -> 0
B4: Container Quantity: | E4: ='Data Entry'!$E$4:$F$4 -> 0 | H4: Container Quantity: | K4: =$E$4 -> 0
B5: Facility: | C5: ='Data Entry'!$C$5:$F$5 -> 0 | H5: Facility: | I5: =$C$5 -> 0
B6: Type | H6: Type
B7: Internal | D7: Supplier | F7: Spike | H7: Internal | J7: Supplier | L7: Spike
B8: ='Data Entry'!$B$8 -> 0 | D8: ='Data Entry'!$D$8 -> 0 | F8: ='Data Entry'!$F$8 -> 0 | H8: =$B$8 -> 0 | J8: =$D$8 -> 0 | L8: =$F$8 -> 0
B9: Replensih When | H9: Replensih When
B10: Consumed | E10: Pulled | H10: Consumed | K10: Pulled
B11: ='Data Entry'!$B$11:$C$11 -> 0 | E11: ='Data Entry'!$E$11:$F$11 -> 0 | H11: =$B$11 -> 0 | K11: =$E$11 -> 0
B12: Return Card to: | H12: Return Card to:
B13: ='Data Entry'!$B$13:$F$13 -> 0 | H13: =$B$13 -> 0
B14: Delivery Material to: | H14: Delivery Material to:
B15: ='Data Entry'!$B$15:$F$15 -> 0 | H15: =$B$15 -> 0
B16: System | H16: System
B17: Card # | E17: Total # of Cards | H17: Card # | K17: Total # of Cards
E18: ='Data Entry'!$E$18:$F18 -> 0 | K18: =$E$18 -> 0
B20: Kan Ban Card | H20: Kan Ban Card
B21: Part #: | C21: =$C$3 -> 0 | H21: Part #: | I21: =$C$3 -> 0
B22: Container Quantity: | E22: =$E$4 -> 0 | H22: Container Quantity: | K22: =$E$4 -> 0
B23: Facility: | C23: =$C$5 -> 0 | H23: Facility: | I23: =$C$5 -> 0
B24: Type | H24: Type
B25: Internal | D25: Supplier | F25: Spike | H25: Internal | J25: Supplier | L25: Spike
B26: =$B$8 -> 0 | D26: =$D$8 -> 0 | F26: =$F$8 -> 0 | H26: =$B$8 -> 0 | J26: =$D$8 -> 0 | L26: =$F$8 -> 0
B27: Replensih When | H27: Replensih When
B28: Consumed | E28: Pulled | H28: Consumed | K28: Pulled
B29: =$B$11 -> 0 | E29: =K11 -> 0 | H29: =$B$11 -> 0 | K29: =K11 -> 0
B30: Return Card to: | H30: Return Card to:
B31: =$B$13 -> 0 | H31: =$B$13 -> 0
B32: Delivery Material to: | H32: Delivery Material to:
B33: =$B$13 -> 0 | H33: =$B$15 -> 0
B34: System | H34: System
B35: Card # | E35: Total # of Cards | H35: Card # | K35: Total # of Cards
E36: =$E$18 -> 0 | K36: =$E$18 -> 0
